BEGIN:VCALENDAR
VERSION:2.0
PRODID:-//Lesley Walks London - ECPv6.15.20//NONSGML v1.0//EN
CALSCALE:GREGORIAN
METHOD:PUBLISH
X-ORIGINAL-URL:https://lesleythompson.co.uk
X-WR-CALDESC:Events for Lesley Walks London
REFRESH-INTERVAL;VALUE=DURATION:PT1H
X-Robots-Tag:noindex
X-PUBLISHED-TTL:PT1H
BEGIN:VTIMEZONE
TZID:Europe/London
BEGIN:DAYLIGHT
TZOFFSETFROM:+0000
TZOFFSETTO:+0100
TZNAME:BST
DTSTART:20230326T010000
END:DAYLIGHT
BEGIN:STANDARD
TZOFFSETFROM:+0100
TZOFFSETTO:+0000
TZNAME:GMT
DTSTART:20231029T010000
END:STANDARD
BEGIN:DAYLIGHT
TZOFFSETFROM:+0000
TZOFFSETTO:+0100
TZNAME:BST
DTSTART:20240331T010000
END:DAYLIGHT
BEGIN:STANDARD
TZOFFSETFROM:+0100
TZOFFSETTO:+0000
TZNAME:GMT
DTSTART:20241027T010000
END:STANDARD
BEGIN:DAYLIGHT
TZOFFSETFROM:+0000
TZOFFSETTO:+0100
TZNAME:BST
DTSTART:20250330T010000
END:DAYLIGHT
BEGIN:STANDARD
TZOFFSETFROM:+0100
TZOFFSETTO:+0000
TZNAME:GMT
DTSTART:20251026T010000
END:STANDARD
END:VTIMEZONE
BEGIN:VEVENT
DTSTART;TZID=Europe/London:20240726T110000
DTEND;TZID=Europe/London:20240726T123000
DTSTAMP:20260425T211236
CREATED:20230124T141539Z
LAST-MODIFIED:20240422T150723Z
UID:10000099-1721991600-1721997000@lesleythompson.co.uk
SUMMARY:Health and History walk in Rosemary Gardens
DESCRIPTION:This is one of a series of free walks developed by Islington Guided Walks for Islington Council. These walks are the perfect chance to stroll at a gentle pace and appreciate some of Islington’s finest green spaces\, while hearing about fascinating and inspiring local history. They are therefore shorter and slower than many of my walks and hopefully just as enjoyable in a different way! \n\n\n\nThis gentle walk explores leafy Rosemary Gardens and the surrounding streets and buildings. We will stroll past grassy and wilder woodland areas\, see planting to encourage wildlife\, a tree that grows beans and a football training pitch opened by Arsenal’s Arsene Wenger! \n\n\n\nCenturies ago\, archery was a popular sport here\, then the local inn’s pleasure gardens and country air attracted visitors from the City until a lead factory was built on the site. We will also learn more about the intriguing local history\, including the nearby canal\, houses and warehouses. \n\n\n\nMore details and reservations for this and monthly walks in other Islington green spaces here.
URL:https://lesleythompson.co.uk/events/health-and-history-walk-in-rosemary-gardens/2024-07-26
LOCATION:Southgate Road N1 3JP\, Inside park gates near bus stop
CATEGORIES:Upcoming-walks
ATTACH;FMTTYPE=image/jpeg:https://lesleythompson.co.uk/wp-content/uploads/2023/01/IMG_3469-scaled.jpeg
END:VEVENT
END:VCALENDAR