BEGIN:VCALENDAR
VERSION:2.0
PRODID:-//Lesley Walks London - ECPv6.15.20//NONSGML v1.0//EN
CALSCALE:GREGORIAN
METHOD:PUBLISH
X-WR-CALNAME:Lesley Walks London
X-ORIGINAL-URL:https://lesleythompson.co.uk
X-WR-CALDESC:Events for Lesley Walks London
REFRESH-INTERVAL;VALUE=DURATION:PT1H
X-Robots-Tag:noindex
X-PUBLISHED-TTL:PT1H
BEGIN:VTIMEZONE
TZID:Europe/London
BEGIN:DAYLIGHT
TZOFFSETFROM:+0000
TZOFFSETTO:+0100
TZNAME:BST
DTSTART:20240331T010000
END:DAYLIGHT
BEGIN:STANDARD
TZOFFSETFROM:+0100
TZOFFSETTO:+0000
TZNAME:GMT
DTSTART:20241027T010000
END:STANDARD
BEGIN:DAYLIGHT
TZOFFSETFROM:+0000
TZOFFSETTO:+0100
TZNAME:BST
DTSTART:20250330T010000
END:DAYLIGHT
BEGIN:STANDARD
TZOFFSETFROM:+0100
TZOFFSETTO:+0000
TZNAME:GMT
DTSTART:20251026T010000
END:STANDARD
BEGIN:DAYLIGHT
TZOFFSETFROM:+0000
TZOFFSETTO:+0100
TZNAME:BST
DTSTART:20260329T010000
END:DAYLIGHT
BEGIN:STANDARD
TZOFFSETFROM:+0100
TZOFFSETTO:+0000
TZNAME:GMT
DTSTART:20261025T010000
END:STANDARD
END:VTIMEZONE
BEGIN:VEVENT
DTSTART;TZID=Europe/London:20250607T110000
DTEND;TZID=Europe/London:20250607T133000
DTSTAMP:20260425T034823
CREATED:20240104T145834Z
LAST-MODIFIED:20250328T120407Z
UID:10000138-1749294000-1749303000@lesleythompson.co.uk
SUMMARY:‘Beating the Bounds’ from King’s Cross to Farringdon
DESCRIPTION:A historic walk winding either side of the border between Camden and Islington boroughs – also the route of the now-buried River Fleet \n\n\n\n‘Beating the Bounds’ around the borders between parishes\, land ownerships and similar is an ancient tradition\, where the boundary was literally paced out and marked with stones each year. This walk traces today’s border between Camden and Islington\, with detours to explore nearby signs of previous boundaries of parishes\, vestries\, water conduits and historic landowners. \n\n\n\nAlong the way\, we’ll see varied architecture from pretty Georgian and Victorian terraces to old burial grounds\, narrow passages that were once slums and restored industrial buildings; see if we can spot historic boundary markers; meet mediaeval monks\, Tudor and Victorian philanthropists\, a dynasty of 19C architects and builders; and hear of lost wells and pleasure gardens.  \n\n\n\nPre-booking essential – please click here.
URL:https://lesleythompson.co.uk/events/beating-the-bounds-from-kings-cross-to-farringdon-3/2025-06-07
CATEGORIES:Upcoming-walks
ATTACH;FMTTYPE=image/jpeg:https://lesleythompson.co.uk/wp-content/uploads/2023/10/IMG_0816-scaled.jpeg
END:VEVENT
END:VCALENDAR