BEGIN:VCALENDAR
VERSION:2.0
PRODID:-//Lesley Walks London - ECPv6.15.20//NONSGML v1.0//EN
CALSCALE:GREGORIAN
METHOD:PUBLISH
X-WR-CALNAME:Lesley Walks London
X-ORIGINAL-URL:https://lesleythompson.co.uk
X-WR-CALDESC:Events for Lesley Walks London
REFRESH-INTERVAL;VALUE=DURATION:PT1H
X-Robots-Tag:noindex
X-PUBLISHED-TTL:PT1H
BEGIN:VTIMEZONE
TZID:Europe/London
BEGIN:DAYLIGHT
TZOFFSETFROM:+0000
TZOFFSETTO:+0100
TZNAME:BST
DTSTART:20240331T010000
END:DAYLIGHT
BEGIN:STANDARD
TZOFFSETFROM:+0100
TZOFFSETTO:+0000
TZNAME:GMT
DTSTART:20241027T010000
END:STANDARD
BEGIN:DAYLIGHT
TZOFFSETFROM:+0000
TZOFFSETTO:+0100
TZNAME:BST
DTSTART:20250330T010000
END:DAYLIGHT
BEGIN:STANDARD
TZOFFSETFROM:+0100
TZOFFSETTO:+0000
TZNAME:GMT
DTSTART:20251026T010000
END:STANDARD
BEGIN:DAYLIGHT
TZOFFSETFROM:+0000
TZOFFSETTO:+0100
TZNAME:BST
DTSTART:20260329T010000
END:DAYLIGHT
BEGIN:STANDARD
TZOFFSETFROM:+0100
TZOFFSETTO:+0000
TZNAME:GMT
DTSTART:20261025T010000
END:STANDARD
END:VTIMEZONE
BEGIN:VEVENT
DTSTART;TZID=Europe/London:20250702T140000
DTEND;TZID=Europe/London:20250702T163000
DTSTAMP:20260425T022616
CREATED:20240104T145834Z
LAST-MODIFIED:20250328T120407Z
UID:10000139-1751464800-1751473800@lesleythompson.co.uk
SUMMARY:‘Beating the Bounds’ from King’s Cross to Farringdon
DESCRIPTION:A historic walk winding either side of the border between Camden and Islington boroughs – also the route of the now-buried River Fleet \n\n\n\n‘Beating the Bounds’ around the borders between parishes\, land ownerships and similar is an ancient tradition\, where the boundary was literally paced out and marked with stones each year. This walk traces today’s border between Camden and Islington\, with detours to explore nearby signs of previous boundaries of parishes\, vestries\, water conduits and historic landowners. \n\n\n\nAlong the way\, we’ll see varied architecture from pretty Georgian and Victorian terraces to old burial grounds\, narrow passages that were once slums and restored industrial buildings; see if we can spot historic boundary markers; meet mediaeval monks\, Tudor and Victorian philanthropists\, a dynasty of 19C architects and builders; and hear of lost wells and pleasure gardens.  \n\n\n\nPre-booking essential – please click here.
URL:https://lesleythompson.co.uk/events/beating-the-bounds-from-kings-cross-to-farringdon-3/2025-07-02
CATEGORIES:Upcoming-walks
ATTACH;FMTTYPE=image/jpeg:https://lesleythompson.co.uk/wp-content/uploads/2023/10/IMG_0816-scaled.jpeg
END:VEVENT
BEGIN:VEVENT
DTSTART;TZID=Europe/London:20250706T110000
DTEND;TZID=Europe/London:20250706T133000
DTSTAMP:20260425T022616
CREATED:20250328T121340Z
LAST-MODIFIED:20250328T121341Z
UID:10000141-1751799600-1751808600@lesleythompson.co.uk
SUMMARY:Historic Holborn
DESCRIPTION:Explore the hidden histories either side of busy High Holborn – Hatton Garden\, Leather Lane\, inns of law and chancery and ancient churches. \n\n\n\nHigh Holborn was originally a westward path up from a crossing over the River Fleet\, leading through green fields and connecting the mediaeval City to Westminster. The areas to either side featured bishop’s palaces\, the first church of the Knights Templar\, legal inns and ancient markets. Later\, smart residential enclaves developed\, then coaching inns\, industry\, jewellery and diamond trades thrived\, followed by extreme poverty and slums\, contrasted with Victorian temples of commerce. \n\n\n\nMore recent rejuvenation now sits by side by side with much of the old fabric of the area\, including several Grade I listed buildings. We explore them all on this wander through the alleyways and green spaces at the south-east boundary of today’s Camden borough. \n\n\n\nPre-booking essential – please click here.
URL:https://lesleythompson.co.uk/events/historic-holborn/2025-07-06
LOCATION:Farringdon Station EC1M 6BY United Kingdom\, EC1M 6BY\, United Kingdom
ATTACH;FMTTYPE=image/jpeg:https://lesleythompson.co.uk/wp-content/uploads/2025/03/Staples-Inn.jpg
END:VEVENT
END:VCALENDAR