BEGIN:VCALENDAR
VERSION:2.0
PRODID:-//Lesley Walks London - ECPv6.15.20//NONSGML v1.0//EN
CALSCALE:GREGORIAN
METHOD:PUBLISH
X-WR-CALNAME:Lesley Walks London
X-ORIGINAL-URL:https://lesleythompson.co.uk
X-WR-CALDESC:Events for Lesley Walks London
REFRESH-INTERVAL;VALUE=DURATION:PT1H
X-Robots-Tag:noindex
X-PUBLISHED-TTL:PT1H
BEGIN:VTIMEZONE
TZID:Europe/London
BEGIN:DAYLIGHT
TZOFFSETFROM:+0000
TZOFFSETTO:+0100
TZNAME:BST
DTSTART:20240331T010000
END:DAYLIGHT
BEGIN:STANDARD
TZOFFSETFROM:+0100
TZOFFSETTO:+0000
TZNAME:GMT
DTSTART:20241027T010000
END:STANDARD
BEGIN:DAYLIGHT
TZOFFSETFROM:+0000
TZOFFSETTO:+0100
TZNAME:BST
DTSTART:20250330T010000
END:DAYLIGHT
BEGIN:STANDARD
TZOFFSETFROM:+0100
TZOFFSETTO:+0000
TZNAME:GMT
DTSTART:20251026T010000
END:STANDARD
BEGIN:DAYLIGHT
TZOFFSETFROM:+0000
TZOFFSETTO:+0100
TZNAME:BST
DTSTART:20260329T010000
END:DAYLIGHT
BEGIN:STANDARD
TZOFFSETFROM:+0100
TZOFFSETTO:+0000
TZNAME:GMT
DTSTART:20261025T010000
END:STANDARD
END:VTIMEZONE
BEGIN:VEVENT
DTSTART;TZID=Europe/London:20251123T110000
DTEND;TZID=Europe/London:20251123T133000
DTSTAMP:20260424T211354
CREATED:20251009T135739Z
LAST-MODIFIED:20251009T143154Z
UID:10000145-1763895600-1763904600@lesleythompson.co.uk
SUMMARY:Clerkenwell Crime and Punishment
DESCRIPTION:Turbulent centuries of monasteries\, vengeance\, courthouses\, prisons\, murder\, social reformers\, a bomb plot and more…. \n\n\n\n\n\n\n\n \n\n\n\nClerkenwell lies just outside the old City\, originally the location of the monastic houses from the late 1100s. When Henry VIII siezed these in the 1500s\, some occupants met grim fates. Over the following centuries\, the population increased greatly as London grew and people came looking for work\, and in turn the area became overcrowded\, crime-ridden and squalid. As it lay outside the City’s direct jurisdiction (part of Middlesex)\, the area attracted radicals\, rebels and criminals. The local system of magistrates\, judges and parishes in turn built prisons\, courthouses and workhouses. \n\n\n\n\n\n\n\n \n\n\n\nThis walk explores the nature of crime and the various punishments meted out over the centuries in this fascinating area. The route is roughly circular so we will start and end near Farringdon Station – allow 2 hours +. \n\n\n\n\n\n\n\n\n\nMore details and booking on Eventbrite here
URL:https://lesleythompson.co.uk/events/clerkenwell-crime-and-punishment-3/2025-11-23
LOCATION:Farringdon Station EC1M 6BY United Kingdom\, EC1M 6BY\, United Kingdom
CATEGORIES:Upcoming online Walks
ATTACH;FMTTYPE=image/jpeg:https://lesleythompson.co.uk/wp-content/uploads/2025/10/Steinberg-gravestone-scaled.jpeg
END:VEVENT
BEGIN:VEVENT
DTSTART;TZID=Europe/London:20251128T110000
DTEND;TZID=Europe/London:20251128T123000
DTSTAMP:20260424T211354
CREATED:20250729T140309Z
LAST-MODIFIED:20250813T164957Z
UID:10000144-1764327600-1764333000@lesleythompson.co.uk
SUMMARY:Myddelton Square and Spa Fields: a Health & History walk
DESCRIPTION:This is one of a series of free walks developed by Islington Guided Walks for Islington Council. These walks are the perfect chance to stroll at a gentle pace and appreciate some of Islington’s finest green spaces\, while hearing about fascinating and inspiring local history. They are therefore shorter and slower than many of my walks and hopefully just as enjoyable in a different way! \n\n\n\nOn this walk we will explore a beautiful Clerkenwell square built by the historic New River Company\, then wander down to Spa Green gardens and hear more history of this fascinating area. \n\n\n\nMore details and reservations (do please book ahead) for this and monthly walks in other Islington green spaces here.
URL:https://lesleythompson.co.uk/events/myddelton-square-and-spa-fields-a-health-history-walk
ATTACH;FMTTYPE=image/jpeg:https://lesleythompson.co.uk/wp-content/uploads/2025/07/IMG_0929-scaled.jpeg
END:VEVENT
END:VCALENDAR