BEGIN:VCALENDAR
VERSION:2.0
PRODID:-//Lesley Walks London - ECPv6.15.20//NONSGML v1.0//EN
CALSCALE:GREGORIAN
METHOD:PUBLISH
X-WR-CALNAME:Lesley Walks London
X-ORIGINAL-URL:https://lesleythompson.co.uk
X-WR-CALDESC:Events for Lesley Walks London
REFRESH-INTERVAL;VALUE=DURATION:PT1H
X-Robots-Tag:noindex
X-PUBLISHED-TTL:PT1H
BEGIN:VTIMEZONE
TZID:Europe/London
BEGIN:DAYLIGHT
TZOFFSETFROM:+0000
TZOFFSETTO:+0100
TZNAME:BST
DTSTART:20230326T010000
END:DAYLIGHT
BEGIN:STANDARD
TZOFFSETFROM:+0100
TZOFFSETTO:+0000
TZNAME:GMT
DTSTART:20231029T010000
END:STANDARD
BEGIN:DAYLIGHT
TZOFFSETFROM:+0000
TZOFFSETTO:+0100
TZNAME:BST
DTSTART:20240331T010000
END:DAYLIGHT
BEGIN:STANDARD
TZOFFSETFROM:+0100
TZOFFSETTO:+0000
TZNAME:GMT
DTSTART:20241027T010000
END:STANDARD
BEGIN:DAYLIGHT
TZOFFSETFROM:+0000
TZOFFSETTO:+0100
TZNAME:BST
DTSTART:20250330T010000
END:DAYLIGHT
BEGIN:STANDARD
TZOFFSETFROM:+0100
TZOFFSETTO:+0000
TZNAME:GMT
DTSTART:20251026T010000
END:STANDARD
END:VTIMEZONE
BEGIN:VEVENT
DTSTART;TZID=Europe/London:20240203T113000
DTEND;TZID=Europe/London:20240203T134500
DTSTAMP:20260426T052744
CREATED:20231114T165255Z
LAST-MODIFIED:20240104T161325Z
UID:10000089-1706959800-1706967900@lesleythompson.co.uk
SUMMARY:Walking the Hackney/ Islington border from the Rosemary Branch to Old St
DESCRIPTION:This boundary walk between Hackney and Islington boroughs weaves around the areas either side of Regent’s Canal\, City Rd basin and City Rd. \n\n\n\n‘Beating the Bounds’ to mark and confirm the borders between parishes is an ancient tradition\, where the border was literally paced out\, agreed and marked with stones each year. This is one in a series of walks exploring the borders of today’s Islington\, Hackney and Camden boroughs\, looking at how these evolved over the centuries due to a mix of changing land ownership\, parish church catchments\, significance of early settlements and roads\, and natural features such as springs and ponds. \n\n\n\nThere’s a wealth of interest on either side of the border as we walk from the Regent’s Canal to the old boroughs of Finsbury and Shoreditch\, and the edge of the City in Moorfields. A varied mix of City Livery Company history\, ironworks\, canal basins\, WWII devastation\, the lost hospitals quarter\, a natural swimming pool and a mediaeval well. \n\n\n\nThis walk starts near the canal and the Rosemary Branch inn\, lasts for 2 – 2 1/4 hours and ends near Old Street station.  \n\n\n\nPre-booking essential\, click here.
URL:https://lesleythompson.co.uk/events/walking-the-hackney-islington-border-from-the-rosemary-branch-to-old-st-3
LOCATION:The Rosemary Branch\, 2 Shepperton Road N1\, London\, 3DT\, United Kingdom
CATEGORIES:Upcoming-walks
ATTACH;FMTTYPE=image/jpeg:https://lesleythompson.co.uk/wp-content/uploads/2023/11/Micawber-St-stone-scaled-e1699980758781.jpeg
END:VEVENT
END:VCALENDAR