BEGIN:VCALENDAR
VERSION:2.0
PRODID:-//Lesley Walks London - ECPv6.15.20//NONSGML v1.0//EN
CALSCALE:GREGORIAN
METHOD:PUBLISH
X-WR-CALNAME:Lesley Walks London
X-ORIGINAL-URL:https://lesleythompson.co.uk
X-WR-CALDESC:Events for Lesley Walks London
REFRESH-INTERVAL;VALUE=DURATION:PT1H
X-Robots-Tag:noindex
X-PUBLISHED-TTL:PT1H
BEGIN:VTIMEZONE
TZID:Europe/London
BEGIN:DAYLIGHT
TZOFFSETFROM:+0000
TZOFFSETTO:+0100
TZNAME:BST
DTSTART:20230326T010000
END:DAYLIGHT
BEGIN:STANDARD
TZOFFSETFROM:+0100
TZOFFSETTO:+0000
TZNAME:GMT
DTSTART:20231029T010000
END:STANDARD
BEGIN:DAYLIGHT
TZOFFSETFROM:+0000
TZOFFSETTO:+0100
TZNAME:BST
DTSTART:20240331T010000
END:DAYLIGHT
BEGIN:STANDARD
TZOFFSETFROM:+0100
TZOFFSETTO:+0000
TZNAME:GMT
DTSTART:20241027T010000
END:STANDARD
BEGIN:DAYLIGHT
TZOFFSETFROM:+0000
TZOFFSETTO:+0100
TZNAME:BST
DTSTART:20250330T010000
END:DAYLIGHT
BEGIN:STANDARD
TZOFFSETFROM:+0100
TZOFFSETTO:+0000
TZNAME:GMT
DTSTART:20251026T010000
END:STANDARD
END:VTIMEZONE
BEGIN:VEVENT
DTSTART;TZID=Europe/London:20240426T110000
DTEND;TZID=Europe/London:20240426T123000
DTSTAMP:20260426T022139
CREATED:20240422T151248Z
LAST-MODIFIED:20240422T151531Z
UID:10000104-1714129200-1714134600@lesleythompson.co.uk
SUMMARY:Thornhill Estate and Barnsbury Wood Health and History walk
DESCRIPTION:This is one of a series of free walks developed by Islington Guided Walks for Islington Council. These walks are the perfect chance to stroll at a gentle pace and appreciate some of Islington’s finest green spaces\, while hearing about fascinating and inspiring local history. They are therefore shorter and slower than many of my walks and hopefully just as enjoyable in a different way! \n\n\n\nOn this walk you may encounter a Square that isn’t square\, a series of sphinxes\, a sporting suffragette\, stylish Georgian and early Victorian architecture and a secret sylvan wilderness. \n\n\n\nMore details and reservations for this and monthly walks in other Islington green spaces here.
URL:https://lesleythompson.co.uk/events/thornhill-estate-and-barnsbury-wood-health-and-history-walk
CATEGORIES:Upcoming-walks
ATTACH;FMTTYPE=image/jpeg:https://lesleythompson.co.uk/wp-content/uploads/2024/04/IMG_1287-scaled.jpeg
END:VEVENT
END:VCALENDAR