BEGIN:VCALENDAR
VERSION:2.0
PRODID:-//Lesley Walks London - ECPv6.15.20//NONSGML v1.0//EN
CALSCALE:GREGORIAN
METHOD:PUBLISH
X-WR-CALNAME:Lesley Walks London
X-ORIGINAL-URL:https://lesleythompson.co.uk
X-WR-CALDESC:Events for Lesley Walks London
REFRESH-INTERVAL;VALUE=DURATION:PT1H
X-Robots-Tag:noindex
X-PUBLISHED-TTL:PT1H
BEGIN:VTIMEZONE
TZID:Europe/London
BEGIN:DAYLIGHT
TZOFFSETFROM:+0000
TZOFFSETTO:+0100
TZNAME:BST
DTSTART:20230326T010000
END:DAYLIGHT
BEGIN:STANDARD
TZOFFSETFROM:+0100
TZOFFSETTO:+0000
TZNAME:GMT
DTSTART:20231029T010000
END:STANDARD
BEGIN:DAYLIGHT
TZOFFSETFROM:+0000
TZOFFSETTO:+0100
TZNAME:BST
DTSTART:20240331T010000
END:DAYLIGHT
BEGIN:STANDARD
TZOFFSETFROM:+0100
TZOFFSETTO:+0000
TZNAME:GMT
DTSTART:20241027T010000
END:STANDARD
BEGIN:DAYLIGHT
TZOFFSETFROM:+0000
TZOFFSETTO:+0100
TZNAME:BST
DTSTART:20250330T010000
END:DAYLIGHT
BEGIN:STANDARD
TZOFFSETFROM:+0100
TZOFFSETTO:+0000
TZNAME:GMT
DTSTART:20251026T010000
END:STANDARD
END:VTIMEZONE
BEGIN:VEVENT
DTSTART;TZID=Europe/London:20240901T110000
DTEND;TZID=Europe/London:20240901T160000
DTSTAMP:20260425T222227
CREATED:20240802T152532Z
LAST-MODIFIED:20240802T153348Z
UID:10000106-1725188400-1725206400@lesleythompson.co.uk
SUMMARY:Angel Canal Festival
DESCRIPTION:Not a walk\, but a community festival celebrating the Regent’s Canal\, City Road Basin\, Graham St Park and surrounds. Loads of stalls\, games\, music and much more – and memories of Crystal Hale who campaigned to save the canal from being filled in back in the 1960s\, then founded both the Islington Boat Club and this annual festival. \n\n\n\nIslington Guided Walks will have a stall where we can chat with you about our organisation and upcoming events\, plus we’re running a local ‘Location\, location’ quiz. There will also be the opportunity to take short boat trips along the canal with some of our guides (including me) pointing out sights and talking about local history.  \n\n\n\nHead for the canal towpath via the ramp from Duncan Terrace\, N1 8PZ approx. postcode.
URL:https://lesleythompson.co.uk/events/angel-canal-festival
ATTACH;FMTTYPE=image/jpeg:https://lesleythompson.co.uk/wp-content/uploads/2024/08/IMG_2448-1-scaled.jpeg
END:VEVENT
END:VCALENDAR