BEGIN:VCALENDAR
VERSION:2.0
PRODID:-//Lesley Walks London - ECPv6.15.20//NONSGML v1.0//EN
CALSCALE:GREGORIAN
METHOD:PUBLISH
X-WR-CALNAME:Lesley Walks London
X-ORIGINAL-URL:https://lesleythompson.co.uk
X-WR-CALDESC:Events for Lesley Walks London
REFRESH-INTERVAL;VALUE=DURATION:PT1H
X-Robots-Tag:noindex
X-PUBLISHED-TTL:PT1H
BEGIN:VTIMEZONE
TZID:Europe/London
BEGIN:DAYLIGHT
TZOFFSETFROM:+0000
TZOFFSETTO:+0100
TZNAME:BST
DTSTART:20240331T010000
END:DAYLIGHT
BEGIN:STANDARD
TZOFFSETFROM:+0100
TZOFFSETTO:+0000
TZNAME:GMT
DTSTART:20241027T010000
END:STANDARD
BEGIN:DAYLIGHT
TZOFFSETFROM:+0000
TZOFFSETTO:+0100
TZNAME:BST
DTSTART:20250330T010000
END:DAYLIGHT
BEGIN:STANDARD
TZOFFSETFROM:+0100
TZOFFSETTO:+0000
TZNAME:GMT
DTSTART:20251026T010000
END:STANDARD
BEGIN:DAYLIGHT
TZOFFSETFROM:+0000
TZOFFSETTO:+0100
TZNAME:BST
DTSTART:20260329T010000
END:DAYLIGHT
BEGIN:STANDARD
TZOFFSETFROM:+0100
TZOFFSETTO:+0000
TZNAME:GMT
DTSTART:20261025T010000
END:STANDARD
END:VTIMEZONE
BEGIN:VEVENT
DTSTART;TZID=Europe/London:20250314T110000
DTEND;TZID=Europe/London:20250314T123000
DTSTAMP:20260425T123457
CREATED:20240124T111437Z
LAST-MODIFIED:20250105T171855Z
UID:10000120-1741950000-1741955400@lesleythompson.co.uk
SUMMARY:Canonbury Tower Tour
DESCRIPTION:Canonbury Tower near Canonbury Square is a survivor of Islington’s Tudor and even earlier history. It was built in the late 16th century as an addition to an earlier manor house\, features beautiful wood panelling in some rooms\, was home to several notable people including Francis Bacon and Oliver Goldsmith\, and offers a fantastic view from the roof. Courtesy of the seventh Marquess of Northampton\, Islington Guides are now offering two tours each month\, strictly limited to 10 guests. \n\n\n\nBooking link here: https://canonburytower.eventbrite.co.uk \n\n\n\nSelect 14th March for my tour in the drop down – other dates will be led by equally knowledgeable and charming Islington Guides!
URL:https://lesleythompson.co.uk/events/canonbury-tower-tour-6/2025-03-14
CATEGORIES:Upcoming-walks
ATTACH;FMTTYPE=image/jpeg:https://lesleythompson.co.uk/wp-content/uploads/2022/12/IMG_3133-scaled.jpeg
END:VEVENT
END:VCALENDAR