BEGIN:VCALENDAR
VERSION:2.0
PRODID:-//Lesley Walks London - ECPv6.15.20//NONSGML v1.0//EN
CALSCALE:GREGORIAN
METHOD:PUBLISH
X-ORIGINAL-URL:https://lesleythompson.co.uk
X-WR-CALDESC:Events for Lesley Walks London
REFRESH-INTERVAL;VALUE=DURATION:PT1H
X-Robots-Tag:noindex
X-PUBLISHED-TTL:PT1H
BEGIN:VTIMEZONE
TZID:Europe/London
BEGIN:DAYLIGHT
TZOFFSETFROM:+0000
TZOFFSETTO:+0100
TZNAME:BST
DTSTART:20240331T010000
END:DAYLIGHT
BEGIN:STANDARD
TZOFFSETFROM:+0100
TZOFFSETTO:+0000
TZNAME:GMT
DTSTART:20241027T010000
END:STANDARD
BEGIN:DAYLIGHT
TZOFFSETFROM:+0000
TZOFFSETTO:+0100
TZNAME:BST
DTSTART:20250330T010000
END:DAYLIGHT
BEGIN:STANDARD
TZOFFSETFROM:+0100
TZOFFSETTO:+0000
TZNAME:GMT
DTSTART:20251026T010000
END:STANDARD
BEGIN:DAYLIGHT
TZOFFSETFROM:+0000
TZOFFSETTO:+0100
TZNAME:BST
DTSTART:20260329T010000
END:DAYLIGHT
BEGIN:STANDARD
TZOFFSETFROM:+0100
TZOFFSETTO:+0000
TZNAME:GMT
DTSTART:20261025T010000
END:STANDARD
END:VTIMEZONE
BEGIN:VEVENT
DTSTART;TZID=Europe/London:20250528T110000
DTEND;TZID=Europe/London:20250528T133000
DTSTAMP:20260425T050834
CREATED:20250328T121340Z
LAST-MODIFIED:20250328T121341Z
UID:10000140-1748430000-1748439000@lesleythompson.co.uk
SUMMARY:Historic Holborn
DESCRIPTION:Explore the hidden histories either side of busy High Holborn – Hatton Garden\, Leather Lane\, inns of law and chancery and ancient churches. \n\n\n\nHigh Holborn was originally a westward path up from a crossing over the River Fleet\, leading through green fields and connecting the mediaeval City to Westminster. The areas to either side featured bishop’s palaces\, the first church of the Knights Templar\, legal inns and ancient markets. Later\, smart residential enclaves developed\, then coaching inns\, industry\, jewellery and diamond trades thrived\, followed by extreme poverty and slums\, contrasted with Victorian temples of commerce. \n\n\n\nMore recent rejuvenation now sits by side by side with much of the old fabric of the area\, including several Grade I listed buildings. We explore them all on this wander through the alleyways and green spaces at the south-east boundary of today’s Camden borough. \n\n\n\nPre-booking essential – please click here.
URL:https://lesleythompson.co.uk/events/historic-holborn/2025-05-28
LOCATION:Farringdon Station EC1M 6BY United Kingdom\, EC1M 6BY\, United Kingdom
ATTACH;FMTTYPE=image/jpeg:https://lesleythompson.co.uk/wp-content/uploads/2025/03/Staples-Inn.jpg
END:VEVENT
END:VCALENDAR