BEGIN:VCALENDAR
VERSION:2.0
PRODID:-//Lesley Walks London - ECPv6.15.20//NONSGML v1.0//EN
CALSCALE:GREGORIAN
METHOD:PUBLISH
X-ORIGINAL-URL:https://lesleythompson.co.uk
X-WR-CALDESC:Events for Lesley Walks London
REFRESH-INTERVAL;VALUE=DURATION:PT1H
X-Robots-Tag:noindex
X-PUBLISHED-TTL:PT1H
BEGIN:VTIMEZONE
TZID:Europe/London
BEGIN:DAYLIGHT
TZOFFSETFROM:+0000
TZOFFSETTO:+0100
TZNAME:BST
DTSTART:20240331T010000
END:DAYLIGHT
BEGIN:STANDARD
TZOFFSETFROM:+0100
TZOFFSETTO:+0000
TZNAME:GMT
DTSTART:20241027T010000
END:STANDARD
BEGIN:DAYLIGHT
TZOFFSETFROM:+0000
TZOFFSETTO:+0100
TZNAME:BST
DTSTART:20250330T010000
END:DAYLIGHT
BEGIN:STANDARD
TZOFFSETFROM:+0100
TZOFFSETTO:+0000
TZNAME:GMT
DTSTART:20251026T010000
END:STANDARD
BEGIN:DAYLIGHT
TZOFFSETFROM:+0000
TZOFFSETTO:+0100
TZNAME:BST
DTSTART:20260329T010000
END:DAYLIGHT
BEGIN:STANDARD
TZOFFSETFROM:+0100
TZOFFSETTO:+0000
TZNAME:GMT
DTSTART:20261025T010000
END:STANDARD
END:VTIMEZONE
BEGIN:VEVENT
DTSTART;TZID=Europe/London:20250803T110000
DTEND;TZID=Europe/London:20250803T130000
DTSTAMP:20260425T022659
CREATED:20250718T090405Z
LAST-MODIFIED:20250718T091018Z
UID:10000143-1754218800-1754226000@lesleythompson.co.uk
SUMMARY:Undercurrent: Wandering the Walbrook
DESCRIPTION:An intriguing walk from Moorgate to Old Street exploring the lost river Walbrook and other watery undercurrents\, from the medieval to today. \n\n\n\nI am leading this walk on behalf of Islington Museum – who are currently running an exhibition about lost waterways – and Clerkenwell & Islington Guides. It’s a fascinating route from Moorgate to Old Street\, uncovering the secrets of the lost River Walbrook and the watery history still shaping the city today. \n\n\n\nThough one of London’s smallest lost rivers\, the Walbrook once meandered through Finsbury and St Luke’s before flowing into the Thames. Dammed by the Roman city wall\, it flooded the area to form the marshy Moorfields. Today\, it runs silently beneath our feet – diverted into sewers – but its presence still leaves ripples across the modern landscape. \n\n\n\nAlong the way\, you’ll hear stories of medieval wells\, a Georgian swimming pool\, Victorian innovations in sanitation\, a church slowly sinking into soggy ground and more. It’s a journey through time\, tracing how water shaped the lives\, buildings\, and streets of this corner of London. \n\n\n\nThis event is free as part of a series events supporting the Undercurrents exhibition at Islington Museum. There is an additional date on Wednesday 13th August at 11am led by my colleague Sue. Numbers are limited and pre-booking is essential – click to pre-book for either date.
URL:https://lesleythompson.co.uk/events/undercurrent-wandering-the-walbrook
LOCATION:Moorgate Station\, Moorgate\, London\, EC2M 6TX\, United Kingdom
ATTACH;FMTTYPE=image/jpeg:https://lesleythompson.co.uk/wp-content/uploads/2025/07/EV-museum-image.jpg
END:VEVENT
END:VCALENDAR